Workbook

Sheet Utang
A1: Date | B1: Customer | C1: What they took | D1: Amount (₱) | E1: Paid (₱) | F1: Balance (₱) | G1: Due date | H1: Status | I1: Notes
A2: 46284 | B2: Sample customer 1 | C2: 2 kilos rice, 1 cooking oil | D2: 190 | E2: 100 | F2: =IF(D2="","",D2-N(E2)) -> 90 | G2: 46291 | H2: =IF(D2="","",IF(F2<=0,"Paid",IF(AND(G2<>"",G2<TODAY()),"Overdue","Open"))) -> Overdue | I2: Example row
A3: 46290 | B3: Sample customer 2 | C3: Softdrinks for a party | D3: 360 | E3: 0 | F3: =IF(D3="","",D3-N(E3)) -> 360 | G3: 46305 | H3: =IF(D3="","",IF(F3<=0,"Paid",IF(AND(G3<>"",G3<TODAY()),"Overdue","Open"))) -> Open
A4: 46292 | B4: Sample customer 1 | C4: Load ₱50 | D4: 50 | E4: 50 | F4: =IF(D4="","",D4-N(E4)) -> 0 | G4: 46299 | H4: =IF(D4="","",IF(F4<=0,"Paid",IF(AND(G4<>"",G4<TODAY()),"Overdue","Open"))) -> Paid
F5: =IF(D5="","",D5-N(E5)) | H5: =IF(D5="","",IF(F5<=0,"Paid",IF(AND(G5<>"",G5<TODAY()),"Overdue","Open")))
F6: =IF(D6="","",D6-N(E6)) | H6: =IF(D6="","",IF(F6<=0,"Paid",IF(AND(G6<>"",G6<TODAY()),"Overdue","Open")))
F7: =IF(D7="","",D7-N(E7)) | H7: =IF(D7="","",IF(F7<=0,"Paid",IF(AND(G7<>"",G7<TODAY()),"Overdue","Open")))
F8: =IF(D8="","",D8-N(E8)) | H8: =IF(D8="","",IF(F8<=0,"Paid",IF(AND(G8<>"",G8<TODAY()),"Overdue","Open")))
F9: =IF(D9="","",D9-N(E9)) | H9: =IF(D9="","",IF(F9<=0,"Paid",IF(AND(G9<>"",G9<TODAY()),"Overdue","Open")))
F10: =IF(D10="","",D10-N(E10)) | H10: =IF(D10="","",IF(F10<=0,"Paid",IF(AND(G10<>"",G10<TODAY()),"Overdue","Open")))
F11: =IF(D11="","",D11-N(E11)) | H11: =IF(D11="","",IF(F11<=0,"Paid",IF(AND(G11<>"",G11<TODAY()),"Overdue","Open")))
F12: =IF(D12="","",D12-N(E12)) | H12: =IF(D12="","",IF(F12<=0,"Paid",IF(AND(G12<>"",G12<TODAY()),"Overdue","Open")))
F13: =IF(D13="","",D13-N(E13)) | H13: =IF(D13="","",IF(F13<=0,"Paid",IF(AND(G13<>"",G13<TODAY()),"Overdue","Open")))
F14: =IF(D14="","",D14-N(E14)) | H14: =IF(D14="","",IF(F14<=0,"Paid",IF(AND(G14<>"",G14<TODAY()),"Overdue","Open")))
F15: =IF(D15="","",D15-N(E15)) | H15: =IF(D15="","",IF(F15<=0,"Paid",IF(AND(G15<>"",G15<TODAY()),"Overdue","Open")))
F16: =IF(D16="","",D16-N(E16)) | H16: =IF(D16="","",IF(F16<=0,"Paid",IF(AND(G16<>"",G16<TODAY()),"Overdue","Open")))
... F201: =IF(D201="","",D201-N(E201)) | H201: =IF(D201="","",IF(F201<=0,"Paid",IF(AND(G201<>"",G201<TODAY()),"Overdue","Open")))

Sheet Per customer
A1: Customer | B1: Total taken (₱) | C1: Total paid (₱) | D1: Still owes (₱)
A2: Sample customer 1 | B2: =IF(A2="","",SUMIF(Utang!$B$2:$B$201,A2,Utang!$D$2:$D$201)) -> 240 | C2: =IF(A2="","",SUMIF(Utang!$B$2:$B$201,A2,Utang!$E$2:$E$201)) -> 150 | D2: =IF(A2="","",B2-C2) -> 90
A3: Sample customer 2 | B3: =IF(A3="","",SUMIF(Utang!$B$2:$B$201,A3,Utang!$D$2:$D$201)) -> 360 | C3: =IF(A3="","",SUMIF(Utang!$B$2:$B$201,A3,Utang!$E$2:$E$201)) -> 0 | D3: =IF(A3="","",B3-C3) -> 360
B4: =IF(A4="","",SUMIF(Utang!$B$2:$B$201,A4,Utang!$D$2:$D$201)) | C4: =IF(A4="","",SUMIF(Utang!$B$2:$B$201,A4,Utang!$E$2:$E$201)) | D4: =IF(A4="","",B4-C4)
B5: =IF(A5="","",SUMIF(Utang!$B$2:$B$201,A5,Utang!$D$2:$D$201)) | C5: =IF(A5="","",SUMIF(Utang!$B$2:$B$201,A5,Utang!$E$2:$E$201)) | D5: =IF(A5="","",B5-C5)
B6: =IF(A6="","",SUMIF(Utang!$B$2:$B$201,A6,Utang!$D$2:$D$201)) | C6: =IF(A6="","",SUMIF(Utang!$B$2:$B$201,A6,Utang!$E$2:$E$201)) | D6: =IF(A6="","",B6-C6)
B7: =IF(A7="","",SUMIF(Utang!$B$2:$B$201,A7,Utang!$D$2:$D$201)) | C7: =IF(A7="","",SUMIF(Utang!$B$2:$B$201,A7,Utang!$E$2:$E$201)) | D7: =IF(A7="","",B7-C7)
B8: =IF(A8="","",SUMIF(Utang!$B$2:$B$201,A8,Utang!$D$2:$D$201)) | C8: =IF(A8="","",SUMIF(Utang!$B$2:$B$201,A8,Utang!$E$2:$E$201)) | D8: =IF(A8="","",B8-C8)
B9: =IF(A9="","",SUMIF(Utang!$B$2:$B$201,A9,Utang!$D$2:$D$201)) | C9: =IF(A9="","",SUMIF(Utang!$B$2:$B$201,A9,Utang!$E$2:$E$201)) | D9: =IF(A9="","",B9-C9)
B10: =IF(A10="","",SUMIF(Utang!$B$2:$B$201,A10,Utang!$D$2:$D$201)) | C10: =IF(A10="","",SUMIF(Utang!$B$2:$B$201,A10,Utang!$E$2:$E$201)) | D10: =IF(A10="","",B10-C10)
B11: =IF(A11="","",SUMIF(Utang!$B$2:$B$201,A11,Utang!$D$2:$D$201)) | C11: =IF(A11="","",SUMIF(Utang!$B$2:$B$201,A11,Utang!$E$2:$E$201)) | D11: =IF(A11="","",B11-C11)
B12: =IF(A12="","",SUMIF(Utang!$B$2:$B$201,A12,Utang!$D$2:$D$201)) | C12: =IF(A12="","",SUMIF(Utang!$B$2:$B$201,A12,Utang!$E$2:$E$201)) | D12: =IF(A12="","",B12-C12)
B13: =IF(A13="","",SUMIF(Utang!$B$2:$B$201,A13,Utang!$D$2:$D$201)) | C13: =IF(A13="","",SUMIF(Utang!$B$2:$B$201,A13,Utang!$E$2:$E$201)) | D13: =IF(A13="","",B13-C13)
B14: =IF(A14="","",SUMIF(Utang!$B$2:$B$201,A14,Utang!$D$2:$D$201)) | C14: =IF(A14="","",SUMIF(Utang!$B$2:$B$201,A14,Utang!$E$2:$E$201)) | D14: =IF(A14="","",B14-C14)
B15: =IF(A15="","",SUMIF(Utang!$B$2:$B$201,A15,Utang!$D$2:$D$201)) | C15: =IF(A15="","",SUMIF(Utang!$B$2:$B$201,A15,Utang!$E$2:$E$201)) | D15: =IF(A15="","",B15-C15)
... B101: =IF(A101="","",SUMIF(Utang!$B$2:$B$201,A101,Utang!$D$2:$D$201)) | C101: =IF(A101="","",SUMIF(Utang!$B$2:$B$201,A101,Utang!$E$2:$E$201)) | D101: =IF(A101="","",B101-C101)

Sheet Made with Kassly
A1: Utang list — free template
A2: Made with Kassly — track utang in Kassly automatically.
A4: One row per time a customer takes goods on credit. Type what they paid in "Paid". Balance and Status fill in by themselves.
A5: Type each customer's name once on the "Per customer" tab to see what they still owe.
A6: The rows marked "Sample customer" are examples. Delete them when you start.
A7: In Kassly, you choose Credit at the counter and the customer's balance, due dates and payments are tracked for you. That needs the Accounts Receivable feature (part of some paid add-ons).
A9: Total still owed by everyone: | B9: =SUM(Utang!F2:F201) -> 450
A11: Try Kassly free: https://kasslypos.com/app/register
